BEGIN:VCALENDAR
VERSION:2.0
PRODID:-//wiesenoberschule.com - ECPv6.15.20//NONSGML v1.0//EN
CALSCALE:GREGORIAN
METHOD:PUBLISH
X-ORIGINAL-URL:https://wiesenoberschule.com
X-WR-CALDESC:Veranstaltungen für wiesenoberschule.com
REFRESH-INTERVAL;VALUE=DURATION:PT1H
X-Robots-Tag:noindex
X-PUBLISHED-TTL:PT1H
BEGIN:VTIMEZONE
TZID:UTC
BEGIN:STANDARD
TZOFFSETFROM:+0000
TZOFFSETTO:+0000
TZNAME:UTC
DTSTART:20230101T000000
END:STANDARD
END:VTIMEZONE
BEGIN:VEVENT
DTSTART;VALUE=DATE:20241104
DTEND;VALUE=DATE:20241116
DTSTAMP:20260421T112616
CREATED:20240920T073114Z
LAST-MODIFIED:20240920T073114Z
UID:136-1730678400-1731715199@wiesenoberschule.com
SUMMARY:Praktikum Klasse 10
DESCRIPTION:
URL:https://wiesenoberschule.com/events/praktikum-klasse-10/
CATEGORIES:Klassenstufe 10
END:VEVENT
BEGIN:VEVENT
DTSTART;TZID=UTC:20241111T170000
DTEND;TZID=UTC:20241111T190000
DTSTAMP:20260421T112616
CREATED:20240920T073020Z
LAST-MODIFIED:20240924T103017Z
UID:134-1731344400-1731351600@wiesenoberschule.com
SUMMARY:Elternsprechabend Klasse 10
DESCRIPTION:
URL:https://wiesenoberschule.com/events/lehrersprechtag-klasse-10/
CATEGORIES:Klassenstufe 10
END:VEVENT
BEGIN:VEVENT
DTSTART;TZID=UTC:20241118T170000
DTEND;TZID=UTC:20241118T190000
DTSTAMP:20260421T112616
CREATED:20240920T075525Z
LAST-MODIFIED:20240920T075525Z
UID:154-1731949200-1731956400@wiesenoberschule.com
SUMMARY:Elternsprechabend Klasse 7-9
DESCRIPTION:
URL:https://wiesenoberschule.com/events/elternsprechabend-klasse-7-9/
CATEGORIES:Klassenstufe 7,Klassenstufe 8,Klassenstufe 9
END:VEVENT
BEGIN:VEVENT
DTSTART;TZID=UTC:20241125T140000
DTEND;TZID=UTC:20241125T153000
DTSTAMP:20260421T112616
CREATED:20241004T105340Z
LAST-MODIFIED:20241004T105340Z
UID:492-1732543200-1732548600@wiesenoberschule.com
SUMMARY:Fachkonferenzen
DESCRIPTION:
URL:https://wiesenoberschule.com/events/fachkonferenzen/
END:VEVENT
END:VCALENDAR