BEGIN:VCALENDAR
VERSION:2.0
PRODID:-//wiesenoberschule.com - ECPv6.15.20//NONSGML v1.0//EN
CALSCALE:GREGORIAN
METHOD:PUBLISH
X-WR-CALNAME:wiesenoberschule.com
X-ORIGINAL-URL:https://wiesenoberschule.com
X-WR-CALDESC:Veranstaltungen für wiesenoberschule.com
REFRESH-INTERVAL;VALUE=DURATION:PT1H
X-Robots-Tag:noindex
X-PUBLISHED-TTL:PT1H
BEGIN:VTIMEZONE
TZID:UTC
BEGIN:STANDARD
TZOFFSETFROM:+0000
TZOFFSETTO:+0000
TZNAME:UTC
DTSTART:20230101T000000
END:STANDARD
END:VTIMEZONE
BEGIN:VEVENT
DTSTART;VALUE=DATE:20241002
DTEND;VALUE=DATE:20241003
DTSTAMP:20260421T125407
CREATED:20240920T072622Z
LAST-MODIFIED:20240924T103055Z
UID:123-1727827200-1727913599@wiesenoberschule.com
SUMMARY:Abgabe der Praktikumsverträge Klasse 10
DESCRIPTION:
URL:https://wiesenoberschule.com/events/abgabe-der-praktikumsvertraege/
CATEGORIES:Klassenstufe 10
END:VEVENT
BEGIN:VEVENT
DTSTART;TZID=UTC:20241007T080000
DTEND;TZID=UTC:20241009T140000
DTSTAMP:20260421T125407
CREATED:20240920T072708Z
LAST-MODIFIED:20240920T072708Z
UID:125-1728288000-1728482400@wiesenoberschule.com
SUMMARY:Antisemitismusprojekt
DESCRIPTION:
URL:https://wiesenoberschule.com/events/antisemitismusprojekt/
CATEGORIES:Klassenstufe 10
END:VEVENT
BEGIN:VEVENT
DTSTART;VALUE=DATE:20241013
DTEND;VALUE=DATE:20241019
DTSTAMP:20260421T125407
CREATED:20240920T072949Z
LAST-MODIFIED:20240920T072949Z
UID:132-1728777600-1729295999@wiesenoberschule.com
SUMMARY:Parisfahrt
DESCRIPTION:
URL:https://wiesenoberschule.com/events/parisfahrt/
CATEGORIES:Klassenstufe 10,Klassenstufe 7,Klassenstufe 8,Klassenstufe 9
END:VEVENT
BEGIN:VEVENT
DTSTART;TZID=UTC:20241017T080000
DTEND;TZID=UTC:20241017T150000
DTSTAMP:20260421T125407
CREATED:20240920T072853Z
LAST-MODIFIED:20240920T072853Z
UID:130-1729152000-1729177200@wiesenoberschule.com
SUMMARY:Assessmentcentertraining
DESCRIPTION:
URL:https://wiesenoberschule.com/events/assessmentcentertraining/
CATEGORIES:Klassenstufe 10
END:VEVENT
BEGIN:VEVENT
DTSTART;VALUE=DATE:20241018
DTEND;VALUE=DATE:20241019
DTSTAMP:20260421T125407
CREATED:20240920T072757Z
LAST-MODIFIED:20240924T103037Z
UID:128-1729209600-1729295999@wiesenoberschule.com
SUMMARY:Abgabe der Praxislernverträge Klasse 9
DESCRIPTION:
URL:https://wiesenoberschule.com/events/abgabe-der-praxislernvertraege/
CATEGORIES:Klassenstufe 9
END:VEVENT
END:VCALENDAR